BEGIN:VCALENDAR
VERSION:2.0
PRODID:City of Santa Maria Calendar Creator
METHOD:PUBLISH
BEGIN:VEVENT
DTSTAMP:20260409T143918
DTSTART:20260424T194500
DTEND:20260424T235900
SUMMARY:Stargazing Party at Los Flores
DESCRIPTION:<p></p><p></p><p></p>
X-ALT-DESC;FMTTYPE=text/html:<p></p><p></p><p></p>
LOCATION:Los Flores Ranch Park\, 6271 Dominion Road Santa Maria\, California 93454
CLASS:PUBLIC
END:VEVENT
END:VCALENDAR
