BEGIN:VCALENDAR
VERSION:2.0
PRODID:City of Santa Maria Calendar Creator
METHOD:PUBLISH
BEGIN:VEVENT
DTSTAMP:20260409T143210
DTSTART:20260418T090000
DTEND:20260418T235900
SUMMARY:Bark Park Grand Opening
DESCRIPTION:<p></p><p></p><p></p>
X-ALT-DESC;FMTTYPE=text/html:<p></p><p></p><p></p>
LOCATION:Santa Maria Bark Park\, West Carmen Lane Santa Maria\, California 93458
CLASS:PUBLIC
END:VEVENT
END:VCALENDAR
