BEGIN:VCALENDAR
VERSION:2.0
PRODID:City of Santa Maria Calendar Creator
METHOD:PUBLISH
BEGIN:VEVENT
DTSTAMP:20260311T123537
DTSTART:20260422T130000
DTEND:20260422T160000
SUMMARY:Earth Day Celebration
DESCRIPTION:<p></p><p></p>
X-ALT-DESC;FMTTYPE=text/html:<p></p><p></p>
LOCATION:Machado Plaza\, 216 West Chapel Santa Maria\, California 93458
CLASS:PUBLIC
END:VEVENT
END:VCALENDAR
