BEGIN:VCALENDAR
VERSION:2.0
PRODID:City of Santa Maria Calendar Creator
METHOD:PUBLISH
BEGIN:VEVENT
DTSTAMP:20260317T120717
DTSTART:20260409T150000
DTEND:20260409T180000
SUMMARY:Hum & Bloom Youth Program
DESCRIPTION:<p>Register today:&nbsp;<a href="https://anc.apm.activecommunities.com/santamaria/activity/search/detail/22925?onlineSiteId=0&amp;from_original_cui=true" target="_blank" rel="noopener">https://anc.apm.activecommunities.com/santamaria/activity/search/detail/22925?onlineSiteId=0&amp;from_original_cui=true</a></p><p><a href="https://anc.apm.activecommunities.com/santamaria/activity/search/detail/22925?onlineSiteId=0&amp;from_original_cui=true" target="_blank" rel="noopener"></a></p><p>&nbsp;</p><p>&nbsp;</p>
X-ALT-DESC;FMTTYPE=text/html:<p>Register today:&nbsp;<a href="https://anc.apm.activecommunities.com/santamaria/activity/search/detail/22925?onlineSiteId=0&amp;from_original_cui=true" target="_blank" rel="noopener">https://anc.apm.activecommunities.com/santamaria/activity/search/detail/22925?onlineSiteId=0&amp;from_original_cui=true</a></p><p><a href="https://anc.apm.activecommunities.com/santamaria/activity/search/detail/22925?onlineSiteId=0&amp;from_original_cui=true" target="_blank" rel="noopener"></a></p><p>&nbsp;</p><p>&nbsp;</p>
LOCATION:Buena Vista Park\, 800 S Pine St. Santa Maria\, California 93458
CLASS:PUBLIC
END:VEVENT
END:VCALENDAR
