BEGIN:VCALENDAR
VERSION:2.0
PRODID:City of Santa Maria Calendar Creator
METHOD:PUBLISH
BEGIN:VEVENT
DTSTAMP:20260311T121706
DTSTART:20260403T000000
DTEND:20260406T235900
SUMMARY:Digital Spring Egg Hunt
DESCRIPTION:<p>Submit your photos via Instagram or FB to the Recreation &amp; Parks Department by April 6 at 5PM.</p><p>Instagram:<a href="https://www.instagram.com/santamaria_recandparks/" target="_blank" rel="noopener">&nbsp;https://www.instagram.com/santamaria_recandparks/</a></p><p>Facebook:<a href="https://www.facebook.com/smrecandparks" target="_blank" rel="noopener">&nbsp;https://www.facebook.com/smrecandparks</a></p><p><a href="https://www.instagram.com/santamaria_recandparks/" target="_blank" rel="noopener"></a></p><p><a href="https://www.instagram.com/santamaria_recandparks/" target="_blank" rel="noopener"></a></p>
X-ALT-DESC;FMTTYPE=text/html:<p>Submit your photos via Instagram or FB to the Recreation &amp; Parks Department by April 6 at 5PM.</p><p>Instagram:<a href="https://www.instagram.com/santamaria_recandparks/" target="_blank" rel="noopener">&nbsp;https://www.instagram.com/santamaria_recandparks/</a></p><p>Facebook:<a href="https://www.facebook.com/smrecandparks" target="_blank" rel="noopener">&nbsp;https://www.facebook.com/smrecandparks</a></p><p><a href="https://www.instagram.com/santamaria_recandparks/" target="_blank" rel="noopener"></a></p><p><a href="https://www.instagram.com/santamaria_recandparks/" target="_blank" rel="noopener"></a></p>
LOCATION:
CLASS:PUBLIC
END:VEVENT
END:VCALENDAR
