BEGIN:VCALENDAR
VERSION:2.0
PRODID:City of Santa Maria Calendar Creator
METHOD:PUBLISH
BEGIN:VEVENT
DTSTAMP:20260311T124228
DTSTART:20260407T120000
DTEND:20260409T133000
SUMMARY:Youth Pickleball Clinic
DESCRIPTION:<p><a href="https://anc.apm.activecommunities.com/santamaria/activity/search/detail/22816?onlineSiteId=0&amp;from_original_cui=true" target="_blank" rel="noopener"></a></p><p><a href="https://anc.apm.activecommunities.com/santamaria/activity/search/detail/22816?onlineSiteId=0&amp;from_original_cui=true" target="_blank" rel="noopener"></a></p>
X-ALT-DESC;FMTTYPE=text/html:<p><a href="https://anc.apm.activecommunities.com/santamaria/activity/search/detail/22816?onlineSiteId=0&amp;from_original_cui=true" target="_blank" rel="noopener"></a></p><p><a href="https://anc.apm.activecommunities.com/santamaria/activity/search/detail/22816?onlineSiteId=0&amp;from_original_cui=true" target="_blank" rel="noopener"></a></p>
LOCATION:Hagerman Sports Complex\, 3300 Skyway Drive Santa Maria\, California 93455
CLASS:PUBLIC
END:VEVENT
END:VCALENDAR
